Workbook

Sheet 使い方
A1: TX02 件数を目で数えるのをやめる
A3: このブック | B3: 完成見本。式と件数を確かめる
A4: 1 共通演習 | B4: 申請受付の状態を地区別に数える
A5: 2 自力課題 | B5: 施設予約の列を探し、同じ考え方で数える
A6: 3 検算 | B6: 集計表の合計と台帳のID件数を比べる
A7: コピー前 | B7: 右へ動くと、地区と状態の参照はどう変わるか
A8: 未記入 | B8: 見出しの文字と空のセルは違う
A9: 一致した後 | B9: 範囲の最終行と入力内容は別に確かめる
A10: 業務へ戻す | B10: 自分の台帳で二つの条件と未記入の意味を決める
A11: 扱うデータ | B11: 練習用に作った架空の台帳。実データを持ち込まない
A13: 参考資料
A14: COUNTIFS | B14: https://support.microsoft.com/en-gb/excel/functions/countifs-function
A15: 参照の固定 | B15: https://support.microsoft.com/en-us/excel/switch-between-relative-absolute-and-mixed-references

Sheet 申請受付_演習
A1: 受付番号 | B1: 地区 | C1: 状態 | D1: 申請種別 | E1: 受付日 | F1: 担当者
A2: A001 | B2: 中央 | C2: 完了 | D2: 住宅改修 | E2: 46266 | F2: 担当A
A3: A002 | B3: 南部 | C3: 完了 | D3: 施設利用 | E3: 46267 | F3: 担当B
A4: A003 | B4: 北部 | C4: 処理中 | D4: 子育て支援 | E4: 46268 | F4: 担当C
A5: A004 | B5: 中央 | C5: 完了 | D5: 道路占用 | E5: 46269 | F5: 担当D
A6: A005 | B6: 北部 | C6: 処理中 | D6: 住宅改修 | E6: 46270 | F6: 担当A
A7: A006 | B7: 北部 | C7: 完了 | D7: 施設利用 | E7: 46271 | F7: 担当B
A8: A007 | B8: 北部 | C8: 未処理 | D8: 子育て支援 | E8: 46272 | F8: 担当C
A9: A008 | B9: 南部 | C9: 処理中 | D9: 道路占用 | E9: 46273 | F9: 担当D
A10: A009 | B10: 北部 | C10: 処理中 | D10: 住宅改修 | E10: 46274 | F10: 担当A
A11: A010 | B11: 北部 | C11: 未処理 | D11: 施設利用 | E11: 46275 | F11: 担当B
A12: A011 | B12: 南部 | C12: 処理中 | D12: 子育て支援 | E12: 46276 | F12: 担当C
A13: A012 | B13: 南部 | D13: 道路占用 | E13: 46277 | F13: 担当D
A14: A013 | B14: 南部 | C14: 未処理 | D14: 住宅改修 | E14: 46278 | F14: 担当A
A15: A014 | B15: 北部 | C15: 未処理 | D15: 施設利用 | E15: 46279 | F15: 担当B
A16: A015 | B16: 北部 | C16: 未処理 | D16: 子育て支援 | E16: 46280 | F16: 担当C
A17: A016 | B17: 中央 | C17: 処理中 | D17: 道路占用 | E17: 46281 | F17: 担当D
A18: A017 | B18: 中央 | C18: 処理中 | D18: 住宅改修 | E18: 46282 | F18: 担当A
A19: A018 | B19: 中央 | D19: 施設利用 | E19: 46283 | F19: 担当B
A20: A019 | B20: 中央 | C20: 完了 | D20: 子育て支援 | E20: 46284 | F20: 担当C
A21: A020 | B21: 南部 | C21: 完了 | D21: 道路占用 | E21: 46285 | F21: 担当D
A22: A021 | B22: 南部 | C22: 完了 | D22: 住宅改修 | E22: 46286 | F22: 担当A
A23: A022 | B23: 南部 | C23: 未処理 | D23: 施設利用 | E23: 46287 | F23: 担当B
A24: A023 | B24: 中央 | C24: 未処理 | D24: 子育て支援 | E24: 46288 | F24: 担当C
A25: A024 | B25: 北部 | C25: 完了 | D25: 道路占用 | E25: 46289 | F25: 担当D

Sheet 申請受付_集計
A1: 申請受付の件数表
A2: 地区 | B2: 未処理 | C2: 処理中 | D2: 完了 | E2: 未記入 | F2: 行合計
A3: 北部 | B3: =COUNTIFS(申請受付_演習!$B$2:$B$25,$A3,申請受付_演習!$C$2:$C$25,B$2) -> 4 | C3: =COUNTIFS(申請受付_演習!$B$2:$B$25,$A3,申請受付_演習!$C$2:$C$25,C$2) -> 3 | D3: =COUNTIFS(申請受付_演習!$B$2:$B$25,$A3,申請受付_演習!$C$2:$C$25,D$2) -> 2 | E3: =COUNTIFS(申請受付_演習!$B$2:$B$25,$A3,申請受付_演習!$C$2:$C$25,"") -> 0 | F3: =SUM(B3:E3) -> 9
A4: 南部 | B4: =COUNTIFS(申請受付_演習!$B$2:$B$25,$A4,申請受付_演習!$C$2:$C$25,B$2) -> 2 | C4: =COUNTIFS(申請受付_演習!$B$2:$B$25,$A4,申請受付_演習!$C$2:$C$25,C$2) -> 2 | D4: =COUNTIFS(申請受付_演習!$B$2:$B$25,$A4,申請受付_演習!$C$2:$C$25,D$2) -> 3 | E4: =COUNTIFS(申請受付_演習!$B$2:$B$25,$A4,申請受付_演習!$C$2:$C$25,"") -> 1 | F4: =SUM(B4:E4) -> 8
A5: 中央 | B5: =COUNTIFS(申請受付_演習!$B$2:$B$25,$A5,申請受付_演習!$C$2:$C$25,B$2) -> 1 | C5: =COUNTIFS(申請受付_演習!$B$2:$B$25,$A5,申請受付_演習!$C$2:$C$25,C$2) -> 2 | D5: =COUNTIFS(申請受付_演習!$B$2:$B$25,$A5,申請受付_演習!$C$2:$C$25,D$2) -> 3 | E5: =COUNTIFS(申請受付_演習!$B$2:$B$25,$A5,申請受付_演習!$C$2:$C$25,"") -> 1 | F5: =SUM(B5:E5) -> 7
A6: 列合計 | B6: =SUM(B3:B5) -> 7 | C6: =SUM(C3:C5) -> 7 | D6: =SUM(D3:D5) -> 8 | E6: =SUM(E3:E5) -> 2 | F6: =SUM(F3:F5) -> 24
A8: 考えること
A9: 右へコピーしたとき、$A3とB$2のどちらが動きますか
A10: 未記入列が0件なら、見出しと式の条件を見比べる
A11: 未処理の全件（COUNTIF） | B11: =COUNTIF(申請受付_演習!$C$2:$C$25,"未処理") -> 7
A12: 受付番号の件数 | B12: =COUNTIF(申請受付_演習!$A$2:$A$25,"<>") -> 24
A13: 総計との差（0なら一致） | B13: =F6-B12 -> 0
A14: 未処理の差（0なら一致） | B14: =B6-B11 -> 0
A16: 一致しても、範囲外の行と入力内容は別に確認する
A18: 未記入が2件なら、元台帳の何を確認しますか

Sheet 施設予約_自力
A1: 予約番号 | B1: 施設名 | C1: 状態 | D1: 利用日 | E1: 地区 | F1: 受付日
A2: R001 | B2: 第一会議室 | C2: 仮受付 | D2: 46296 | E2: 東部 | F2: 46273
A3: R002 | B3: 第二会議室 | D3: 46297 | E3: 東部 | F3: 46274
A4: R003 | B4: 多目的室 | C4: 確定 | D4: 46298 | E4: 東部 | F4: 46275
A5: R004 | B5: 第一会議室 | C5: 確定 | D5: 46299 | E5: 西部 | F5: 46276
A6: R005 | B6: 第二会議室 | D6: 46300 | E6: 西部 | F6: 46277
A7: R006 | B7: 多目的室 | C7: 仮受付 | D7: 46301 | E7: 東部 | F7: 46278
A8: R007 | B8: 第一会議室 | C8: 取消 | D8: 46302 | E8: 中央 | F8: 46279
A9: R008 | B9: 第二会議室 | C9: 取消 | D9: 46303 | E9: 西部 | F9: 46280
A10: R009 | B10: 多目的室 | C10: 仮受付 | D10: 46304 | E10: 東部 | F10: 46281
A11: R010 | B11: 第一会議室 | D11: 46305 | E11: 中央 | F11: 46282
A12: R011 | B12: 第二会議室 | C12: 確定 | D12: 46306 | E12: 西部 | F12: 46283
A13: R012 | B13: 多目的室 | C13: 確定 | D13: 46307 | E13: 西部 | F13: 46284
A14: R013 | B14: 第一会議室 | C14: 確定 | D14: 46308 | E14: 中央 | F14: 46285
A15: R014 | B15: 第二会議室 | C15: 確定 | D15: 46309 | E15: 東部 | F15: 46286
A16: R015 | B16: 多目的室 | C16: 仮受付 | D16: 46310 | E16: 西部 | F16: 46287
A17: R016 | B17: 第一会議室 | C17: 確定 | D17: 46311 | E17: 中央 | F17: 46288
A18: R017 | B18: 第二会議室 | C18: 仮受付 | D18: 46312 | E18: 中央 | F18: 46289
A19: R018 | B19: 多目的室 | C19: 仮受付 | D19: 46313 | E19: 西部 | F19: 46290

Sheet 施設予約_集計
A1: 施設予約の件数表
A2: 地区 | B2: 仮受付 | C2: 確定 | D2: 取消 | E2: 未記入 | F2: 行合計
A3: 東部 | B3: =COUNTIFS(施設予約_自力!$E$2:$E$19,$A3,施設予約_自力!$C$2:$C$19,B$2) -> 3 | C3: =COUNTIFS(施設予約_自力!$E$2:$E$19,$A3,施設予約_自力!$C$2:$C$19,C$2) -> 2 | D3: =COUNTIFS(施設予約_自力!$E$2:$E$19,$A3,施設予約_自力!$C$2:$C$19,D$2) -> 0 | E3: =COUNTIFS(施設予約_自力!$E$2:$E$19,$A3,施設予約_自力!$C$2:$C$19,"") -> 1 | F3: =SUM(B3:E3) -> 6
A4: 西部 | B4: =COUNTIFS(施設予約_自力!$E$2:$E$19,$A4,施設予約_自力!$C$2:$C$19,B$2) -> 2 | C4: =COUNTIFS(施設予約_自力!$E$2:$E$19,$A4,施設予約_自力!$C$2:$C$19,C$2) -> 3 | D4: =COUNTIFS(施設予約_自力!$E$2:$E$19,$A4,施設予約_自力!$C$2:$C$19,D$2) -> 1 | E4: =COUNTIFS(施設予約_自力!$E$2:$E$19,$A4,施設予約_自力!$C$2:$C$19,"") -> 1 | F4: =SUM(B4:E4) -> 7
A5: 中央 | B5: =COUNTIFS(施設予約_自力!$E$2:$E$19,$A5,施設予約_自力!$C$2:$C$19,B$2) -> 1 | C5: =COUNTIFS(施設予約_自力!$E$2:$E$19,$A5,施設予約_自力!$C$2:$C$19,C$2) -> 2 | D5: =COUNTIFS(施設予約_自力!$E$2:$E$19,$A5,施設予約_自力!$C$2:$C$19,D$2) -> 1 | E5: =COUNTIFS(施設予約_自力!$E$2:$E$19,$A5,施設予約_自力!$C$2:$C$19,"") -> 1 | F5: =SUM(B5:E5) -> 5
A6: 列合計 | B6: =SUM(B3:B5) -> 6 | C6: =SUM(C3:C5) -> 7 | D6: =SUM(D3:D5) -> 2 | E6: =SUM(E3:E5) -> 3 | F6: =SUM(F3:F5) -> 18
A8: 考えること
A9: 地区と状態の列を元台帳から探す
A10: 見出しを使って式を横・縦へコピーする
A11: 仮受付の全件（COUNTIF） | B11: =COUNTIF(施設予約_自力!$C$2:$C$19,"仮受付") -> 6
A12: 予約番号の件数 | B12: =COUNTIF(施設予約_自力!$A$2:$A$19,"<>") -> 18
A13: 総計との差（0なら一致） | B13: =F6-B12 -> 0
A16: 一致しても、範囲外の行と入力内容は別に確認する
A18: 自分の台帳で数えたい二つの条件を決める
